BEGIN:VCALENDAR
VERSION:2.0
PRODID:-//Product Coffee - ECPv6.15.13//NONSGML v1.0//EN
CALSCALE:GREGORIAN
METHOD:PUBLISH
X-WR-CALNAME:Product Coffee
X-ORIGINAL-URL:https://productcoffee.com
X-WR-CALDESC:Events for Product Coffee
REFRESH-INTERVAL;VALUE=DURATION:PT1H
X-Robots-Tag:noindex
X-PUBLISHED-TTL:PT1H
BEGIN:VTIMEZONE
TZID:America/New_York
BEGIN:DAYLIGHT
TZOFFSETFROM:-0500
TZOFFSETTO:-0400
TZNAME:EDT
DTSTART:20240310T070000
END:DAYLIGHT
BEGIN:STANDARD
TZOFFSETFROM:-0400
TZOFFSETTO:-0500
TZNAME:EST
DTSTART:20241103T060000
END:STANDARD
BEGIN:DAYLIGHT
TZOFFSETFROM:-0500
TZOFFSETTO:-0400
TZNAME:EDT
DTSTART:20250309T070000
END:DAYLIGHT
BEGIN:STANDARD
TZOFFSETFROM:-0400
TZOFFSETTO:-0500
TZNAME:EST
DTSTART:20251102T060000
END:STANDARD
BEGIN:DAYLIGHT
TZOFFSETFROM:-0500
TZOFFSETTO:-0400
TZNAME:EDT
DTSTART:20260308T070000
END:DAYLIGHT
BEGIN:STANDARD
TZOFFSETFROM:-0400
TZOFFSETTO:-0500
TZNAME:EST
DTSTART:20261101T060000
END:STANDARD
END:VTIMEZONE
BEGIN:VEVENT
DTSTART;TZID=America/New_York:20250205T113000
DTEND;TZID=America/New_York:20250205T130000
DTSTAMP:20260425T095254
CREATED:20250130T220902Z
LAST-MODIFIED:20250130T220902Z
UID:10000126-1738755000-1738760400@productcoffee.com
SUMMARY:Stop Chasing Technology: Why Product Management Is the Real Key to Startup Success
DESCRIPTION:In startups\, technology alone won’t guarantee success. Without strong product management\, even the most innovative tech can fail. In this session\, Lisa Crymes—an experienced product leader—explains why product management is the true driver of success for startups. She’ll cover how to craft a compelling product vision\, align strategy with business goals\, and lead cross-functional teams. Learn how to prioritize user needs\, leverage data\, and guide technology teams to deliver business value. \nKey Takeaways:\n→ Product vision guides tech development.\n→ Align strategy with business goals.\n→ User feedback over tech innovation.\n→ Lead and influence teams.\n→ Use data to drive decisions.\n \n\nThis event is included for free with a Product Coffee Premium membership. If you aren’t already a member\, join today! \n  \nRegister
URL:https://productcoffee.com/event/stop-chasing-technology-why-product-management-is-the-real-key-to-startup-success/
CATEGORIES:Weekly Product Coffee
ATTACH;FMTTYPE=image/png:https://productcoffee.com/wp-content/uploads/2025/01/YouTube-Stop-Chasing-Technology-1.png
END:VEVENT
BEGIN:VEVENT
DTSTART;TZID=America/New_York:20250212T073000
DTEND;TZID=America/New_York:20250212T090000
DTSTAMP:20260425T095254
CREATED:20250205T010759Z
LAST-MODIFIED:20250205T012500Z
UID:10000128-1739345400-1739350800@productcoffee.com
SUMMARY:Unlocking AI's True Potential: A Product Manager's Guide to Customer-Centric Innovation
DESCRIPTION:Join us to dive deep into the critical intersection of artificial intelligence (AI) and product management. As AI reshapes the tech landscape\, many companies rush to integrate it without considering their customers’ real needs. The result? Disappointing products\, frustrated users\, and missed opportunities. \n📅 Two sessions available:\n☕ Early Coffee 7:30 AM ET\n☕ Midday Pick-Me-Up 11:30 AM ET\nChoose your best time—or join both if you’re all-in on AI! \nWe’ll explore: \n→ The pitfalls of AI-for-AI’s-sake: Why simply adding AI features often backfires\n→ Explore case studies: A mature company’s misstep and a startup’s deceptive tactics\n→ The power of the product mindset: How to align AI capabilities with genuine customer pain points\n→ Practical strategies for customer-centric AI development and go-to-market success \nDon’t miss this opportunity to gain a competitive edge in the AI product landscape. Learn how to harness AI’s potential while staying laser-focused on what truly matters: solving real problems for your customers. \nThis event is included for free with a Product Coffee Premium membership. If you aren’t already a member\, join today! \n \nRegister
URL:https://productcoffee.com/event/unlocking-ais-true-potential-a-product-managers-guide-to-customer-centric-innovation-2/
CATEGORIES:Weekly Product Coffee
ATTACH;FMTTYPE=image/png:https://productcoffee.com/wp-content/uploads/2025/02/YouTube-Unlocking-AIs-True-Potential-1.png
END:VEVENT
BEGIN:VEVENT
DTSTART;TZID=America/New_York:20250212T113000
DTEND;TZID=America/New_York:20250212T130000
DTSTAMP:20260425T095254
CREATED:20250210T113543Z
LAST-MODIFIED:20250210T113543Z
UID:10000129-1739359800-1739365200@productcoffee.com
SUMMARY:Unlocking AI's True Potential: A Product Manager's Guide to Customer-Centric Innovation
DESCRIPTION:This is the 11:30 AM presentation of today’s Product Coffee. Both sessions will cover the same content\, so choose the time that works best for you!\nJoin us to dive deep into the critical intersection of artificial intelligence (AI) and product management. As AI reshapes the tech landscape\, many companies rush to integrate it without considering their customers’ real needs. The result? Disappointing products\, frustrated users\, and missed opportunities. \n📅 Two sessions available:\n☕ Early Coffee 7:30 AM ET\n☕ Midday Pick-Me-Up 11:30 AM ET\nChoose your best time—or join both if you’re all-in on AI! \nWe’ll explore: \n→ The pitfalls of AI-for-AI’s-sake: Why simply adding AI features often backfires\n→ Explore case studies: A mature company’s misstep and a startup’s deceptive tactics\n→ The power of the product mindset: How to align AI capabilities with genuine customer pain points\n→ Practical strategies for customer-centric AI development and go-to-market success \nDon’t miss this opportunity to gain a competitive edge in the AI product landscape. Learn how to harness AI’s potential while staying laser-focused on what truly matters: solving real problems for your customers.\n \n\nThis event is included for free with a Product Coffee Premium membership. If you aren’t already a member\, join today! \n  \nRegister
URL:https://productcoffee.com/event/unlocking-ais-true-potential-a-product-managers-guide-to-customer-centric-innovation-3/
CATEGORIES:Weekly Product Coffee
ATTACH;FMTTYPE=image/png:https://productcoffee.com/wp-content/uploads/2025/02/YouTube-Unlocking-AIs-True-Potential-2.png
END:VEVENT
BEGIN:VEVENT
DTSTART;TZID=America/New_York:20250219T113000
DTEND;TZID=America/New_York:20250219T130000
DTSTAMP:20260425T095254
CREATED:20250210T163531Z
LAST-MODIFIED:20250210T164040Z
UID:10000130-1739964600-1739970000@productcoffee.com
SUMMARY:New Era\, New Rules for PMs
DESCRIPTION:The world of product management has changed—have you? \nAI is rewriting the playbook\, bloated processes are slowing teams down\, and product leaders are expected to deliver real business impact\, not just ship features. So\, what does it take to thrive in this new era?\nJoin us for a no-fluff\, high-energy conversation with Teresa Cain and Diana Stepner\, co-authors of Next-Gen Product Management as we break down the new rules every PM needs to know.\nWhat you’ll learn: \n🔹 Ditch the dead weight – Cut unnecessary processes and focus on real impact.\n🔹 What to ship vs. why to ship it – Make smarter decisions that drive real business results.\n🔹 Solve faster\, execute smarter – Break through bottlenecks and drive action.\n🔹 Future-proof your career – Stay adaptable and relevant as the field evolves. \nWhether you’re just starting out or leading a team\, this session will give you the mindset and strategies to succeed in today’s fast-changing product world. \nDon’t get stuck in the old ways—learn the new rules and level up! \nThis event is included for free with a Product Coffee Premium membership. If you aren’t already a member\, join today! \n \nRegister
URL:https://productcoffee.com/event/new-era-new-rules-for-pms/
CATEGORIES:Weekly Product Coffee
ATTACH;FMTTYPE=image/png:https://productcoffee.com/wp-content/uploads/2025/02/YouTube-New-Era-New-Rules-for-PMs.png
END:VEVENT
END:VCALENDAR