BEGIN:VCALENDAR
VERSION:2.0
PRODID:-//Product Coffee - ECPv6.15.13//NONSGML v1.0//EN
CALSCALE:GREGORIAN
METHOD:PUBLISH
X-ORIGINAL-URL:https://productcoffee.com
X-WR-CALDESC:Events for Product Coffee
REFRESH-INTERVAL;VALUE=DURATION:PT1H
X-Robots-Tag:noindex
X-PUBLISHED-TTL:PT1H
BEGIN:VTIMEZONE
TZID:America/New_York
BEGIN:DAYLIGHT
TZOFFSETFROM:-0500
TZOFFSETTO:-0400
TZNAME:EDT
DTSTART:20240310T070000
END:DAYLIGHT
BEGIN:STANDARD
TZOFFSETFROM:-0400
TZOFFSETTO:-0500
TZNAME:EST
DTSTART:20241103T060000
END:STANDARD
BEGIN:DAYLIGHT
TZOFFSETFROM:-0500
TZOFFSETTO:-0400
TZNAME:EDT
DTSTART:20250309T070000
END:DAYLIGHT
BEGIN:STANDARD
TZOFFSETFROM:-0400
TZOFFSETTO:-0500
TZNAME:EST
DTSTART:20251102T060000
END:STANDARD
BEGIN:DAYLIGHT
TZOFFSETFROM:-0500
TZOFFSETTO:-0400
TZNAME:EDT
DTSTART:20260308T070000
END:DAYLIGHT
BEGIN:STANDARD
TZOFFSETFROM:-0400
TZOFFSETTO:-0500
TZNAME:EST
DTSTART:20261101T060000
END:STANDARD
END:VTIMEZONE
BEGIN:VEVENT
DTSTART;TZID=America/New_York:20250507T113000
DTEND;TZID=America/New_York:20250507T130000
DTSTAMP:20260425T062035
CREATED:20250430T151541Z
LAST-MODIFIED:20250506T230036Z
UID:10000153-1746617400-1746622800@productcoffee.com
SUMMARY:Product Coffee Bookclub Author Chat: Aligned with Bruce McCarthy
DESCRIPTION:**Want to join this session for free? Read below to see how to unlock access with Product Coffee Premium.**\nJoin us for a special Author Chat with Bruce McCarthy and Melissa Appel\, co-authors of _Aligned: Stakeholder Management for Product Leaders_. This is the capstone to our Product Coffee Book Club series—and it’s going to be a good one.\nWe’ll dive into the mindsets and mechanics behind stakeholder alignment\, hear behind-the-scenes insights from the writing process\, and answer your toughest alignment questions live.\n**Takeaways:**\n– How to navigate misalignment with grace (and a game plan)\n– Practical frameworks for building stakeholder trust\n– Why alignment is a _continuous_ product skill\, not a milestone\nThis is an exclusive event for Product Coffee members—but non-members can join by grabbing a ticket or upgrading to Premium for May. \n**This meetup is FREE for Product Coffee Premium members!**\nAnd that’s just one of many perks brewing inside Premium.\nHere’s what else you get with your membership:\n🧐 **Weekly Coaching Office Hours** ($300/mo value)\n✨ **Monthly Professional Development Workshops** ($199/mo value)\n📹 **Full Session Archive + Workshop Materials**\n💬 **Private Slack Community**\n🤖 **Exclusive AI Tools for PMs**\n👕 **Members-only Product Coffee Swag**\nTry Premium FREE for 7 days at[ productcoffee.com/premium](http://productcoffee.com/premium).\nThen just **$49/month**\, or $41.59/month with annual billing.\nYour weekly growth fix—on the house. ☕️ \nThanks to all of our sponsors! Please visit them\, learn about them and thank them for supporting Product Coffee! \nPodium Studios -[ https://thepodium.studio](https://thepodium.studio/)\nPrizePicks – <https://www.prizepicks.com/careers>\nThe Brave Start – [https://thebravestart.com](https://thebravestart.com/)\nProduct Management University – [https://www.productmanagementuniversity.com](https://www.productmanagementuniversity.com/)\nFeature Upvote – [https://www.featureupvote.com](https://www.featureupvote.com/) \nThis event is included for free with a Product Coffee Premium membership. If you aren’t already a member\, join today! \n \nRegister
URL:https://productcoffee.com/event/product-coffee-bookclub-author-chat-aligned-with-bruce-mccarthy-melissa-appel/
CATEGORIES:Weekly Product Coffee
ATTACH;FMTTYPE=image/png:https://productcoffee.com/wp-content/uploads/2025/04/YouTube-Aligned-Authors-QA-2.png
END:VEVENT
END:VCALENDAR