BEGIN:VCALENDAR
VERSION:2.0
PRODID:-//Product Coffee - ECPv6.15.13//NONSGML v1.0//EN
CALSCALE:GREGORIAN
METHOD:PUBLISH
X-WR-CALNAME:Product Coffee
X-ORIGINAL-URL:https://productcoffee.com
X-WR-CALDESC:Events for Product Coffee
REFRESH-INTERVAL;VALUE=DURATION:PT1H
X-Robots-Tag:noindex
X-PUBLISHED-TTL:PT1H
BEGIN:VTIMEZONE
TZID:America/New_York
BEGIN:DAYLIGHT
TZOFFSETFROM:-0500
TZOFFSETTO:-0400
TZNAME:EDT
DTSTART:20230312T070000
END:DAYLIGHT
BEGIN:STANDARD
TZOFFSETFROM:-0400
TZOFFSETTO:-0500
TZNAME:EST
DTSTART:20231105T060000
END:STANDARD
BEGIN:DAYLIGHT
TZOFFSETFROM:-0500
TZOFFSETTO:-0400
TZNAME:EDT
DTSTART:20240310T070000
END:DAYLIGHT
BEGIN:STANDARD
TZOFFSETFROM:-0400
TZOFFSETTO:-0500
TZNAME:EST
DTSTART:20241103T060000
END:STANDARD
BEGIN:DAYLIGHT
TZOFFSETFROM:-0500
TZOFFSETTO:-0400
TZNAME:EDT
DTSTART:20250309T070000
END:DAYLIGHT
BEGIN:STANDARD
TZOFFSETFROM:-0400
TZOFFSETTO:-0500
TZNAME:EST
DTSTART:20251102T060000
END:STANDARD
END:VTIMEZONE
BEGIN:VEVENT
DTSTART;TZID=America/New_York:20240501T113000
DTEND;TZID=America/New_York:20240501T130000
DTSTAMP:20260424T120056
CREATED:20240429T044109Z
LAST-MODIFIED:20240429T221844Z
UID:10000067-1714563000-1714568400@productcoffee.com
SUMMARY:Crossing the Design Divide: A New Dimension in Product Management
DESCRIPTION:Welcome to the launch of our Design and Innovation Series for May 2024\, starting with “Crossing the Design Divide: A New Dimension in PM.” This session is dedicated to unraveling the art and science of integrating superior design into product strategy and development. \nDive into our townhall discussion where you’ll hear (and share) perspectives on the essence of the design mindset and its pivotal role in product management. Learn from the insights of your peers and industry experts on how to foster a productive collaboration between product managers and design teams to deliver unparalleled value to your users. \nTopics we’ll discuss:\n→ The Essence of Design Mindset in Product Management\n→ Bridging Communication Gaps\n→ Mastering Collaboration \nThis event is included for free with a Product Coffee Premium membership. If you aren’t already a member\, join today! \n \nRegister
URL:https://productcoffee.com/event/crossing-the-design-divide-a-new-dimension-in-pm/
CATEGORIES:Weekly Product Coffee
ATTACH;FMTTYPE=image/png:https://productcoffee.com/wp-content/uploads/2024/04/YouTube-Crossing-The-Design-Divide-2024.04.29.png
END:VEVENT
BEGIN:VEVENT
DTSTART;TZID=America/New_York:20240508T073000
DTEND;TZID=America/New_York:20240508T090000
DTSTAMP:20260424T120056
CREATED:20240501T170139Z
LAST-MODIFIED:20240501T170139Z
UID:10000068-1715153400-1715158800@productcoffee.com
SUMMARY:Coach or Player? Product Management's Role in Design
DESCRIPTION:In the realm of product management\, the analogy of being the ‘mini-CEO’ of a product often surfaces. This suggests a role with broad responsibilities and leadership akin to a coach. Yet\, in the collaborative environment of product design\, where decisions are interwoven between engineering\, design\, and management\, is the product manager really calling all the shots? \nThis panel will explore the dynamic roles of product managers in design and innovation. Are they the coaches directing the team towards strategic goals\, or are they players on the field\, deeply involved and collaborating at every step? \nJoin us to hear from seasoned executives who will share their expectations of product management in the design space and insights on what distinguishes top product managers. \nMeet Our Panelists:\n→ Ryan Johnson\, Chief Product Officer at CallRail. A seasoned leader in product strategy\, Ryan brings a wealth of experience in steering product teams towards excellence.  \n→ Brian Sondergaard\, Chief Technology Officer at SRM. Brian’s expertise lies in merging technology with business goals\, providing a unique perspective on product innovation.  \n→ Gopal Narasimhan\, former VP of Data/Digital Product at FedEx Dataworks. With a background in data-driven product development\, Gopal offers a deep understanding of leveraging data for innovative design.\n \n\nThis event is included for free with a Product Coffee Premium membership. If you aren’t already a member\, join today! \n  \nRegister
URL:https://productcoffee.com/event/coach-or-player-product-managements-role-in-design/
CATEGORIES:Weekly Product Coffee
ATTACH;FMTTYPE=image/png:https://productcoffee.com/wp-content/uploads/2024/05/YouTube-Product-Design-Panel-2024.05.8.png
END:VEVENT
BEGIN:VEVENT
DTSTART;TZID=America/New_York:20240515T113000
DTEND;TZID=America/New_York:20240515T130000
DTSTAMP:20260424T120056
CREATED:20240508T120126Z
LAST-MODIFIED:20240508T120126Z
UID:10000069-1715772600-1715778000@productcoffee.com
SUMMARY:Office Hours: Brian Huss\, VP of Innovation at PrizePicks
DESCRIPTION:Join us on May 15th from 11:30 AM to 1:00 PM for a candid session with Brian Huss\, VP of Innovation at PrizePicks. Brian\, a veteran in transforming the fantasy sports and fan engagement landscape\, uses a mix of consumer insights and data to drive groundbreaking products. \nThis Office Hours is your chance to dive deep with Brian as he discusses his journey in building dynamic teams and innovative products. Bring your toughest questions and get ready for an in-depth discussion—this session is all about open dialogue and personal interaction. \nPlease note\, this session will not be livestreamed\, and a recording will only be available for Product Coffee Premium members. This ensures an environment where you can discuss freely and get the most out of your time with Brian. \nFree for all Product Coffee Premium members. If you’re not a member yet\, feel free to join us and engage in this unique learning opportunity. See you there! \n\nThis event is included for free with a Product Coffee Premium membership. If you aren’t already a member\, join today! \n  \nRegister
URL:https://productcoffee.com/event/office-hours-brian-huss-vp-of-innovation-at-prizepicks/
CATEGORIES:Office Hours
ATTACH;FMTTYPE=image/png:https://productcoffee.com/wp-content/uploads/2024/05/YouTube-Office-Hours-with-Brian-Huss.png
END:VEVENT
BEGIN:VEVENT
DTSTART;TZID=America/New_York:20240516T180000
DTEND;TZID=America/New_York:20240516T200000
DTSTAMP:20260424T120056
CREATED:20240401T202307Z
LAST-MODIFIED:20240430T213415Z
UID:10000058-1715882400-1715889600@productcoffee.com
SUMMARY:Atlanta Product Happy Hour - Midtown May 2024
DESCRIPTION:Summer’s just around the corner\, and what better way to kick it off than hanging out with your product management pals? Before we all dive into our summer getaways\, let’s meet up for some good times and good vibes at Park Tavern in Midtown. \nJoin Product Coffee\, ProductCamp Atlanta\, and ProductATL for our May happy hour. It’s the perfect spot in the city to chill\, chat\, and cheers to our achievements and the exciting summer plans we’ve all got lined up. \nBring your stories\, bring your friends\, and let’s make this a night to remember. We’re looking forward to catching up and kicking back with you all! \nThis event is included for free with a Product Coffee Premium membership. If you aren’t already a member\, join today! \n \n \nRegister for Happy Hour
URL:https://productcoffee.com/event/atlanta-product-happy-hour-midtown-may-2024/
CATEGORIES:Happy Hour Event
ATTACH;FMTTYPE=image/png:https://productcoffee.com/wp-content/uploads/2024/04/YouTube-Product-Happy-Hour-2024.05.16-1.png
END:VEVENT
BEGIN:VEVENT
DTSTART;TZID=America/New_York:20240522T073000
DTEND;TZID=America/New_York:20240522T090000
DTSTAMP:20260424T120056
CREATED:20240520T131431Z
LAST-MODIFIED:20240520T132333Z
UID:10000070-1716363000-1716368400@productcoffee.com
SUMMARY:Innovate and Lead: Design Thinking for Modern Product Managers
DESCRIPTION:Join us for a dynamic Coffee Chat with Billy Harbinson\, Director of Innovation at Incomm Payments’ Go Studio \, as we delve into the power of design thinking in 2024. With over 15 years of experience in building and running innovation labs\, Billy will share his insights on how design thinking has evolved and how product managers can harness its principles to lead more innovative teams. \nIn this session\, we’ll cover:\n→ The current state of design thinking and its evolution\n→ Strategies for product managers to foster innovation within their teams\n→ Techniques for selling innovative ideas to stakeholders focused on feature delivery \nExpect real-world examples and actionable strategies that you can implement immediately. This interactive Q&A session promises to be both informative and engaging\, offering practical advice for incorporating a design thinking mindset into your product management practices. Don’t miss this opportunity to learn from one of the best in the field and elevate your professional growth! \nThis event is included for free with a Product Coffee Premium membership. If you aren’t already a member\, join today! \n \nRegister
URL:https://productcoffee.com/event/innovate-and-lead-design-thinking-for-modern-product-managers/
CATEGORIES:Weekly Product Coffee
ATTACH;FMTTYPE=image/png:https://productcoffee.com/wp-content/uploads/2024/05/YouTube-Innovate-and-Lead-with-Billy-Harbinson.png
END:VEVENT
BEGIN:VEVENT
DTSTART;TZID=America/New_York:20240531T100000
DTEND;TZID=America/New_York:20240531T120000
DTSTAMP:20260424T120056
CREATED:20240520T141129Z
LAST-MODIFIED:20240520T141729Z
UID:10000071-1717149600-1717156800@productcoffee.com
SUMMARY:Designing for Success: Maximizing Product Value and Efficiency Using Two-Hour Design Sprints
DESCRIPTION:Join us on May 31\, 2024\, from 10 AM – 12 PM ET for an enlightening session led by Teresa Cain\, the award-winning author of “Solving Problems in 2 Hours: How to Brainstorm and Create Solutions with Two Hour Design Sprints.” Teresa\, with her vast experience in product management\, innovation\, and UX\, will guide us through a transformative workshop on maximizing product value and efficiency. \nWhat You’ll Learn:\n🌟 How to solve problems in just two hours using the innovative two-hour design sprint method.\n🌟 The incredible benefits of design thinking and design sprint methods specifically for product managers.\n🌟 The powerful advantages of using two-hour design sprints to gain stakeholder buy-in and accelerate your roadmap.\n🌟 How to brainstorm and create solutions faster with cross-functional teams using Figma FigJam. \nThis is an opportunity you don’t want to miss—come prepared to elevate your product management skills and drive your projects to success! \nThis event is included for free with a Product Coffee Premium membership. If you aren’t already a member\, join today! \n \nRegister
URL:https://productcoffee.com/event/designing-for-success-maximizing-product-value-and-efficiency-using-two-hour-design-sprints/
CATEGORIES:Members Workshop
ATTACH;FMTTYPE=image/png:https://productcoffee.com/wp-content/uploads/2024/05/YouTube-Designing-For-Success-Workshop.png
END:VEVENT
BEGIN:VEVENT
DTSTART;TZID=America/New_York:20240605T113000
DTEND;TZID=America/New_York:20240605T130000
DTSTAMP:20260424T120056
CREATED:20240601T114519Z
LAST-MODIFIED:20240601T123025Z
UID:10000073-1717587000-1717592400@productcoffee.com
SUMMARY:From Insight to Impact: Proving Your Product's Worth
DESCRIPTION:Join us as we dive deep into the art of demonstrating your product’s true value. In this session\, we’ll explore: \n→ Effective Communication: Learn how to articulate your product’s value clearly to both internal teams and external stakeholders. \n→ Supporting Evidence: Discover strategies for backing up your claims with solid data and real-world examples. \n→ Engaging Presentations: Tips on making your product stand out and ensuring stakeholder buy-in. \nWhether you’re a seasoned product manager or just starting out\, this session will equip you with the tools you need to showcase your product’s worth and make a lasting impact. Don’t miss out on this opportunity to enhance your product management skills and connect with like-minded professionals! \nKey Takeaways: \n1️⃣ Overview of Communication Techniques: Get an overview of effective methods to convey product value.\n2️⃣ Community Discussion: Participate in an engaging discussion on best practices for demonstrating value.\n3️⃣ Supporting Evidence: Discover ways to support your product’s value with data and real-world examples. \nThis event is included for free with a Product Coffee Premium membership. If you aren’t already a member\, join today! \n \nRegister
URL:https://productcoffee.com/event/from-insight-to-impact-proving-your-products-worth/
CATEGORIES:Weekly Product Coffee
ATTACH;FMTTYPE=image/png:https://productcoffee.com/wp-content/uploads/2024/06/YouTube-From-Insight-to-Impact-.png
END:VEVENT
BEGIN:VEVENT
DTSTART;TZID=America/New_York:20240612T073000
DTEND;TZID=America/New_York:20240612T090000
DTSTAMP:20260424T120056
CREATED:20240607T172512Z
LAST-MODIFIED:20240607T200425Z
UID:10000074-1718177400-1718182800@productcoffee.com
SUMMARY:The Right Questions: Uncovering Insights to Drive Business Value
DESCRIPTION:Are you ready to transform your customer research game? Join us for an engaging panel discussion featuring top product management leaders from Randall-Reilly\, Best Buy\, and Honeywell Building Systems. In this session\, we’ll delve into the art and science of asking the right questions to uncover deep customer insights that can drive significant business value. \nOur expert panelists—Keely Funkhouser\, VP of Product at Randall-Reilly\, Kevin Washington\, Director of Product at Best Buy\, and Kalpesh Nanjii\, CPO at Honeywell Building Systems—will share their experiences and strategies for mastering customer research and interviews. \nKey Takeaways: \n🗝️ Getting Past the First Answer to the Real Insights:\nLearn how leaders dig deeper and uncover the true motivations and needs of their customers.\n🌟 The Mindset for Connecting Customer Outcomes to Business Outcomes:\nUnderstand how to link customer insights directly to your business goals and objectives.\n💬 Effective Communication with Stakeholders:\nGain strategies for effectively communicating research findings and ensuring stakeholder alignment.\nProduct Coffee panel discussions are highly interactive. We love audience participation and real-time Q&A. Bring your questions and challenges to get personalized advice from our expert panelists! \nDon’t miss this opportunity to power up your customer research skills and make sure your products are driving real business value! \nThis event is included for free with a Product Coffee Premium membership. If you aren’t already a member\, join today! \n \nRegister
URL:https://productcoffee.com/event/the-right-questions-uncovering-insights-to-drive-business-value/
CATEGORIES:Weekly Product Coffee
ATTACH;FMTTYPE=image/png:https://productcoffee.com/wp-content/uploads/2024/06/YouTube-The-Right-Questions.png
END:VEVENT
BEGIN:VEVENT
DTSTART;TZID=America/New_York:20240619T113000
DTEND;TZID=America/New_York:20240619T120000
DTSTAMP:20260424T120056
CREATED:20240618T010502Z
LAST-MODIFIED:20240618T015055Z
UID:10000077-1718796600-1718798400@productcoffee.com
SUMMARY:Office Hours with Renee Nelson\, SVP of Product @ comScore
DESCRIPTION:Join us for an exclusive Product Coffee “Office Hours” session with Renee Nelson\, SVP and GM of Television and Cross Platform Products at Comscore. This Zoom-only event will not be livestreamed\, ensuring an intimate and interactive experience. Renee brings a wealth of experience in product development and team building\, having led multiple innovative product launches at Comscore. In this session\, you’ll have the opportunity to hear about her journey\, learn from her successes\, and gain insights into the challenges and solutions she’s encountered in her career. This is a unique chance to ask Renee for advice on your own product management challenges and career questions. Don’t miss the opportunity to connect with one of the smartest minds in the industry and network with other senior product leaders. Recordings of this session will be available only to Product Coffee Premium members. \nThis event is included for free with a Product Coffee Premium membership. If you aren’t already a member\, join today! \n \nRegister
URL:https://productcoffee.com/event/office-hours-with-renee-nelson-svp-of-product-comscore/
CATEGORIES:Office Hours
ATTACH;FMTTYPE=image/png:https://productcoffee.com/wp-content/uploads/2024/06/YouTube-Office-Hours-with-Renee-Nelson.png
END:VEVENT
BEGIN:VEVENT
DTSTART;TZID=America/New_York:20240620T100000
DTEND;TZID=America/New_York:20240620T103000
DTSTAMP:20260424T120056
CREATED:20240619T201314Z
LAST-MODIFIED:20240620T131551Z
UID:10000078-1718877600-1718879400@productcoffee.com
SUMMARY:Product @ PrizePicks with Jay Dueskar
DESCRIPTION:PrizePicks has delivered a meteoric rise in the sports entertainment industry by creating innovative fan experiences. Join us as Jason talks with Jay Dueskar\, co-founder and CTO about the thrilling evolution and challenges of evolving from a startup team of dozens creating game-changing products to an innovation powerhouse at scale. We’ll talk about\n→ How PrizePicks decides what to build next\n→ How teams are structured to support the culture that made PrizePicks great as they expand to meet the opportunities in the market\n→ The opportunities to be a part of this revolutionary company \nJoin us on live on YouTube to learn from this amazing success story! \n \n \nWatch on YouTube
URL:https://productcoffee.com/event/product-prizepicks-with-jay-dueskar/
CATEGORIES:Live Stream
ATTACH;FMTTYPE=image/png:https://productcoffee.com/wp-content/uploads/2024/06/today-1.png
END:VEVENT
BEGIN:VEVENT
DTSTART;TZID=America/New_York:20240620T180000
DTEND;TZID=America/New_York:20240620T200000
DTSTAMP:20260424T120056
CREATED:20240612T022856Z
LAST-MODIFIED:20240620T175233Z
UID:10000076-1718906400-1718913600@productcoffee.com
SUMMARY:Atlanta Area Product Management Happy Hour - Alpharetta Edition - June 2024
DESCRIPTION:Join Product Coffee\, ProductCamp Atlanta\, ProductATL for a “product people”” happy hour at The Village Tavern in Alpharetta! \nGrab a beer\, glass of wine\, cocktail\, mocktail\, soda\, or snack to keep up your strength as you revel in our usual fare of rich\, delicious product talk! The event starts at 6:00 PM – We hope to see you there! \nThis event is for anyone who is responsible for bringing great products to the market. Whether you are a designer\, product manager\, in product development\, marketing or an entrepreneur\, come join us! \nThis event is included for free with a Product Coffee Premium membership. If you aren’t already a member\, join today! \n \nRegister
URL:https://productcoffee.com/event/atlanta-area-product-management-happy-hour-alpharetta-edition-june-2024/
CATEGORIES:Happy Hour Event
ATTACH;FMTTYPE=image/png:https://productcoffee.com/wp-content/uploads/2024/06/YouTube-Product-Happy-Hour-2024.06.20.png
END:VEVENT
BEGIN:VEVENT
DTSTART;TZID=America/New_York:20240626T100000
DTEND;TZID=America/New_York:20240626T150000
DTSTAMP:20260424T120056
CREATED:20240610T155629Z
LAST-MODIFIED:20240610T194926Z
UID:10000075-1719396000-1719414000@productcoffee.com
SUMMARY:PrizePicks Career Invitational
DESCRIPTION:
URL:https://productcoffee.com/event/prizepicks-career-invitational/
ATTACH;FMTTYPE=image/png:https://productcoffee.com/wp-content/uploads/2024/06/Career-Invitational.png
END:VEVENT
BEGIN:VEVENT
DTSTART;TZID=America/New_York:20240628T100000
DTEND;TZID=America/New_York:20240628T120000
DTSTAMP:20260424T120056
CREATED:20240621T225017Z
LAST-MODIFIED:20240621T225716Z
UID:10000085-1719568800-1719576000@productcoffee.com
SUMMARY:Driving Business Outcomes with Impact Mapping
DESCRIPTION:Elevate your product management skills by joining us for a hands-on workshop led by Jon Harmer\, Lead Product Manager at Google Cloud. This session focuses on Impact Mapping\, a strategic framework that shifts your perspective from outputs to outcomes\, adding a powerful tool to your product management toolbelt. Perfect for PMs aiming to enhance their strategic impact\, this workshop will equip you with practical skills to drive meaningful business results. \nWhat You’ll Learn: \n🔹 Think in Terms of Outcomes: Prioritize outcomes over outputs to ensure your efforts lead to significant business results. \n🔹 Lead with “Why”: Learn to effectively communicate the “why” behind your team’s work\, fostering alignment and motivation. \n🔹 Impact Mapping: Master the Impact Map framework to identify and prioritize the most impactful opportunities for your products. \n🔹 User Empathy and Customer Discovery: Improve your ability to understand users and adopt an outside-in thinking approach. \nAbout the Instructor: \nJon Harmer brings extensive experience from his role at Google Cloud. In this workshop\, he will provide practical\, hands-on experience with Impact Mapping. Participants will have the opportunity to map their own opportunities and products\, gaining valuable insights and mentorship from Jon. \nDon’t miss this opportunity to enhance your product management skills and drive meaningful business outcomes. Register now to secure your spot! \nThis event is included for free with a Product Coffee Premium membership. If you aren’t already a member\, join today! \n \nRegister
URL:https://productcoffee.com/event/driving-business-outcomes-with-impact-mapping-2/
CATEGORIES:Members Workshop
ATTACH;FMTTYPE=image/png:https://productcoffee.com/wp-content/uploads/2024/06/YouTube-Workshop-Impact-Mapping.png
END:VEVENT
END:VCALENDAR